BEGIN:VCALENDAR
VERSION:2.0
PRODID:-//Squarespace Inc/Squarespace 6//v6//EN
BEGIN:VEVENT
UID:5d18517684a155000111a7d0@squarespace.com
DTSTAMP:20200105T040921Z
DTSTART:20200102T220000Z
DTEND:20200107T060000Z
SUMMARY:Winning Appliances Sabot Nationals 2020
GEO:-33.847348;151.280211
LOCATION:Vaucluse Amateur 12 foot Sailing Club\, Wharf Road\, Vaucluse\, au
 stralia
END:VEVENT
END:VCALENDAR
