BEGIN:VCALENDAR
VERSION:2.0
PRODID:-//Squarespace Inc/Squarespace 6//v6//EN
BEGIN:VEVENT
UID:5dd860bd8f514102b426be59@squarespace.com
DTSTAMP:20201203T193118Z
DTSTART:20201205T220000Z
DTEND:20201206T053000Z
SUMMARY:Head of the Harbour Regatta
GEO:-33.847348;151.280211
LOCATION:Vaucluse Amateur 12 foot Sailing Club\, Wharf Road\, Vaucluse\, Au
 stralia
END:VEVENT
END:VCALENDAR
