BEGIN:VCALENDAR
VERSION:2.0
PRODID:-//Squarespace Inc/Squarespace 6//v6//EN
BEGIN:VEVENT
UID:5dd099577f96080e4acc9d9d@squarespace.com
DTSTAMP:20201209T132822Z
DTSTART:20201212T230000Z
DTEND:20201213T050000Z
SUMMARY:Dick Winning Fun Day
END:VEVENT
END:VCALENDAR
